BEGIN:VCALENDAR
VERSION:2.0
PRODID:-//Endurance 97-1//NONSGML kigkonsult.se iCalcreator 2.41.92//
CALSCALE:GREGORIAN
METHOD:PUBLISH
UID:32396165-3130-4131-b634-373733663838
X-WR-CALNAME:iCagenda
X-WR-CALDESC:Event Management Extension for Joomla!
X-WR-RELCALID:3E26604A-50F4-4449-8B3E-E4F4932D05B5
X-WR-TIMEZONE:America/Guadeloupe
BEGIN:VTIMEZONE
TZID:America/Guadeloupe
BEGIN:STANDARD
TZNAME:AST
DTSTART:20230215T040000
TZOFFSETFROM:+0000
TZOFFSETTO:-0400
END:STANDARD
END:VTIMEZONE
BEGIN:VEVENT
UID:62653332-3232-4566-a565-326537643230
DTSTAMP:20260421T100302Z
CATEGORIES:compétition
CLASS:PUBLIC
DESCRIPTION:
DTSTART:20241116T210000Z
DTEND:20241117T020000Z
GEO:+16.247911;-61.542225
LOCATION:Lauricisque - Point à Pitre
ORGANIZER:
SEQUENCE:1
SUMMARY:Semi-Marathon International de Point-à-Pitre
TRANSP:OPAQUE
URL:https://endurance97-1.com/evenements/evenements-passes/1-semi-marathon-
 international-de-point-a-pitre.html
END:VEVENT
END:VCALENDAR
